BEGIN:VCALENDAR
VERSION:2.0
PRODID:-//My Calendar//http://www.joedolson.com//v3.3.5//EN
METHOD:PUBLISH
CALSCALE:GREGORIAN
X-WR-CALNAME:Angelfreunde Eckersmühlen 05 e.V.
X-PUBLISHED-TTL:PT24H
REFRESH-INTERVAL;VALUE=DURATION:PT24H
X-WR-CALDESC:Events from Angelfreunde Eckersmühlen 05 e.V.
BEGIN:VEVENT
UID:1181-94
LOCATION:
SUMMARY:Arbeitsdienst
DTSTAMP:20241019T060000Z
ORGANIZER;CN=Markus Pommer:MAILTO:mapo_hip@yahoo.de
DTSTART;TZID=Etc/GMT-2:20241019T060000Z
DTEND;TZID=Etc/GMT-2:20241019T070000Z
URL;VALUE=URI:http://angelfreunde-eckersmuehlen.de/?page_id=6
DESCRIPTION: 
CATEGORIES:Arbeitsdienst
END:VEVENT
BEGIN:VEVENT
UID:1180-93
LOCATION:
SUMMARY:Arbeitsdienst
DTSTAMP:20240928T060000Z
ORGANIZER;CN=Markus Pommer:MAILTO:mapo_hip@yahoo.de
DTSTART;TZID=Etc/GMT-2:20240928T060000Z
DTEND;TZID=Etc/GMT-2:20240928T070000Z
URL;VALUE=URI:http://angelfreunde-eckersmuehlen.de/?page_id=6
DESCRIPTION: 
CATEGORIES:Arbeitsdienst
END:VEVENT
BEGIN:VEVENT
UID:1179-92
LOCATION:
SUMMARY:Arbeitsdienst
DTSTAMP:20240720T060000Z
ORGANIZER;CN=Markus Pommer:MAILTO:mapo_hip@yahoo.de
DTSTART;TZID=Etc/GMT-2:20240720T060000Z
DTEND;TZID=Etc/GMT-2:20240720T070000Z
URL;VALUE=URI:http://angelfreunde-eckersmuehlen.de/?page_id=6
DESCRIPTION: 
CATEGORIES:Arbeitsdienst
END:VEVENT
BEGIN:VEVENT
UID:1178-91
LOCATION:
SUMMARY:Arbeitsdienst
DTSTAMP:20240420T060000Z
ORGANIZER;CN=Markus Pommer:MAILTO:mapo_hip@yahoo.de
DTSTART;TZID=Etc/GMT-2:20240420T060000Z
DTEND;TZID=Etc/GMT-2:20240420T070000Z
URL;VALUE=URI:http://angelfreunde-eckersmuehlen.de/?page_id=6
DESCRIPTION: 
CATEGORIES:Arbeitsdienst
END:VEVENT
BEGIN:VEVENT
UID:1107-90
LOCATION:
SUMMARY:Stammtisch
DTSTAMP:20240314T163000Z
ORGANIZER;CN=Markus Pommer:MAILTO:mapo_hip@yahoo.de
DTSTART;TZID=Etc/GMT-2:20240314T163000Z
DTEND;TZID=Etc/GMT-2:20240314T190000Z
RRULE:FREQ=MONTHLY;BYDAY=1TH;UNTIL=20300201T000000Z

URL;VALUE=URI:http://angelfreunde-eckersmuehlen.de/?page_id=6
DESCRIPTION: 
CATEGORIES:Stammtisch
END:VEVENT
END:VCALENDAR